BEGIN:VCALENDAR
VERSION:2.0
PRODID:-//Tukios.com/
BEGIN:VEVENT
UID:6ffab5d7-8248-4f91-8869-f82d108af2a7@www.robertsfuneralhome.com
DTSTAMP:20260425T183648Z
DTSTART:20260429T220000Z
DTEND:20260430T000000Z
SUMMARY:Visitation
DESCRIPTION:
URL:https://www.robertsfuneralhome.com/obituaries/barbara-campbell
LOCATION:Roberts Funeral Home-Hillcrest Chapel 9560 Acme Road  Seville OH 
	44273
GEO:41.01114;-81.7978443
END:VEVENT
END:VCALENDAR