BEGIN:VCALENDAR
VERSION:2.0
PRODID:-//Tukios.com/
BEGIN:VEVENT
UID:2d901aa2-8dfd-482e-840b-cc561f588294@www.robertsfuneralhome.com
DTSTAMP:20260425T183551Z
DTSTART:20260430T150000Z
DTEND:20260430T160000Z
SUMMARY:Funeral Service
DESCRIPTION:
URL:https://www.robertsfuneralhome.com/obituaries/barbara-campbell
LOCATION:Roberts Funeral Home-Hillcrest Chapel 9560 Acme Road  Seville OH 
	44273
GEO:41.01114;-81.7978443
END:VEVENT
END:VCALENDAR