BEGIN:VCALENDAR
VERSION:2.0
PRODID:-//Tukios.com/
BEGIN:VEVENT
UID:b2ba115f-7a92-4493-9b82-9705c9e42e78@www.robertsfuneralhome.com
DTSTAMP:20260423T214311Z
DTSTART:20260425T150000Z
DTEND:20260425T170000Z
SUMMARY:Visitation
DESCRIPTION:
URL:https://www.robertsfuneralhome.com/obituaries/cheryl-plough
LOCATION: 7067 Cleveland Rd  Wooster OH 44691
GEO:40.8847544;-81.9163504
END:VEVENT
END:VCALENDAR