BEGIN:VCALENDAR
VERSION:2.0
PRODID:-//Tukios.com/
BEGIN:VEVENT
UID:5488cf2c-8df3-4b8d-834e-1c04c74f8b08@www.robertsfuneralhome.com
DTSTAMP:20260423T214510Z
DTSTART:20260425T170000Z
DTEND:20260425T180000Z
SUMMARY:Funeral Service
DESCRIPTION:
URL:https://www.robertsfuneralhome.com/obituaries/cheryl-plough
LOCATION: 7067 Cleveland Rd  Wooster OH 44691
GEO:40.8847544;-81.9163504
END:VEVENT
END:VCALENDAR