BEGIN:VCALENDAR
VERSION:2.0
PRODID:-//Tukios.com/
BEGIN:VEVENT
UID:3e87004b-cac9-4b10-b715-94082d26d575@www.robertsfuneralhome.com
DTSTAMP:20260422T215605Z
DTSTART:20260427T180000Z
DTEND:20260427T190000Z
SUMMARY:Visitation
DESCRIPTION:
URL:https://www.robertsfuneralhome.com/obituaries/sandy-carpenter
LOCATION: 7067 Cleveland Rd  Wooster OH 44691
GEO:40.8847544;-81.9163504
END:VEVENT
END:VCALENDAR