BEGIN:VCALENDAR
VERSION:2.0
PRODID:-//Tukios.com/
BEGIN:VEVENT
UID:882e7d28-ed56-4d6c-aa5d-2bdd075deb3a@www.robertsfuneralhome.com
DTSTAMP:20260422T215151Z
DTSTART:20260427T190000Z
DTEND:20260427T200000Z
SUMMARY:Funeral Service
DESCRIPTION:
URL:https://www.robertsfuneralhome.com/obituaries/sandy-carpenter
LOCATION: 7067 Cleveland Rd  Wooster OH 44691
GEO:40.8847544;-81.9163504
END:VEVENT
END:VCALENDAR