BEGIN:VCALENDAR
VERSION:2.0
PRODID:-//Tukios.com/
BEGIN:VEVENT
UID:6d8da1c9-6845-4af3-8faf-a6fa383dbd97@www.robertsfuneralhome.com
DTSTAMP:20260422T215650Z
DTSTART:20260427
SUMMARY:Burial
DESCRIPTION:
URL:https://www.robertsfuneralhome.com/obituaries/sandy-carpenter
LOCATION: 7067 Cleveland Rd  Wooster OH 44691
GEO:40.8847544;-81.9163504
END:VEVENT
END:VCALENDAR